BEGIN:VCALENDAR
VERSION:2.0
PRODID:-//LX Group - ECPv6.15.20//NONSGML v1.0//EN
CALSCALE:GREGORIAN
METHOD:PUBLISH
X-WR-CALNAME:LX Group
X-ORIGINAL-URL:https://lxgrp.com
X-WR-CALDESC:Events for LX Group
REFRESH-INTERVAL;VALUE=DURATION:PT1H
X-Robots-Tag:noindex
X-PUBLISHED-TTL:PT1H
BEGIN:VTIMEZONE
TZID:America/New_York
BEGIN:DAYLIGHT
TZOFFSETFROM:-0500
TZOFFSETTO:-0400
TZNAME:EDT
DTSTART:20250309T070000
END:DAYLIGHT
BEGIN:STANDARD
TZOFFSETFROM:-0400
TZOFFSETTO:-0500
TZNAME:EST
DTSTART:20251102T060000
END:STANDARD
BEGIN:DAYLIGHT
TZOFFSETFROM:-0500
TZOFFSETTO:-0400
TZNAME:EDT
DTSTART:20260308T070000
END:DAYLIGHT
BEGIN:STANDARD
TZOFFSETFROM:-0400
TZOFFSETTO:-0500
TZNAME:EST
DTSTART:20261101T060000
END:STANDARD
BEGIN:DAYLIGHT
TZOFFSETFROM:-0500
TZOFFSETTO:-0400
TZNAME:EDT
DTSTART:20270314T070000
END:DAYLIGHT
BEGIN:STANDARD
TZOFFSETFROM:-0400
TZOFFSETTO:-0500
TZNAME:EST
DTSTART:20271107T060000
END:STANDARD
END:VTIMEZONE
BEGIN:VEVENT
DTSTART;TZID=America/New_York:20260523T200000
DTEND;TZID=America/New_York:20260524T000000
DTSTAMP:20260421T112655
CREATED:20260410T133250Z
LAST-MODIFIED:20260420T153515Z
UID:10000473-1779566400-1779580800@lxgrp.com
SUMMARY:R&B BINGO: Memorial Day Weekend Edition at Scandals Live!
DESCRIPTION:R&B Bingo- Get ready for a fun and unforgettable night of games\, singing\, dinner & good fun! On Sat May 23rd at Scandals Live!\n\n\n🇺🇸🎶 R&B BINGO: MEMORIAL DAY WEEKEND EDITION🎶🇺🇸\nYour Favorite R&B Hits — One Bingo Away! \nSing it. Mark it. Win it. \nGet ready for the ultimate game night with a smooth twist — R&B Bingo!It’s part throwback party\, part singalong\, part bingo madness — featuring your favorite 90s & 2000s R&B hits\, a live DJ\, prizes\, and good vibes all night long. \n💥 How It Works\n\nGrab your bingo cards (each filled with R&B song titles)\nThe DJ drops 20–30 second clips of classic hits\nHear it? Mark it!\nFirst to get a full row yells BINGO! and wins awesome prizes\n\nBetween rounds\, the DJ keeps the energy high — think dancing\, singing\, and sipping themed cocktails like the Slow Jam Spritz or 90s Crush. \nWhat’s Included\n\n3–4 rounds of bingo\nLive DJ spinning your favorite slow jams and throwbacks\nDrink specials + themed cocktails\nPrizes\, photo ops & non-stop fun\n\nEvent Details\n🗓️ Date: Saturday\, May 23rd 📍 Location: Scandals Live\, Virginia Beach\, VA⏰ Doors: 7PM | Show: 8PM | 21+ \nGrab your crew for the ultimate girls’ night\, date night\, or birthday turn-up.🎟️ Limited $20 early bird tickets — once they’re gone\, they’re gone! \n \nThis is the original and only RNB Bingo that runs nationwide. Please be cautious of copycats. If you see anyone imitating or copying our event\, please email us at info@lxgrp.com.Thank you!
URL:https://lxgrp.com/event/rb-bingo-memorial-day-weekend-edition-at-scandals-live/
LOCATION:Scandals Live\, 3501 Holland Road\, #113\, Virginia Beach\, VA\, 23452\, United States
ATTACH;FMTTYPE=image/jpeg:https://lxgrp.com/wp-content/uploads/2026/04/934bcf5353fad6d10430feb27e26a2d1-WQ3HMv.tmp_.jpg
END:VEVENT
BEGIN:VEVENT
DTSTART;TZID=America/New_York:20260710T200000
DTEND;TZID=America/New_York:20260711T000000
DTSTAMP:20260421T112655
CREATED:20260415T143549Z
LAST-MODIFIED:20260420T153516Z
UID:10000476-1783713600-1783728000@lxgrp.com
SUMMARY:R&B BINGO at Scandals Live!
DESCRIPTION:R&B Bingo- Get ready for a fun and unforgettable night of games\, singing\, dinner & good fun! On Fri\, July 10th at Scandals Live!\n\n\n🎶 R&B BINGO: Your Favorite R&B Hits — One Bingo Away!🎶\nSing it. Mark it. Win it. \nGet ready for the ultimate game night with a smooth twist — R&B Bingo!It’s part throwback party\, part singalong\, part bingo madness — featuring your favorite 90s & 2000s R&B hits\, a live DJ\, prizes\, and good vibes all night long. \n💥 How It Works\n\nGrab your bingo cards (each filled with R&B song titles)\nThe DJ drops 20–30 second clips of classic hits\nHear it? Mark it!\nFirst to get a full row yells BINGO! and wins awesome prizes\n\nBetween rounds\, the DJ keeps the energy high — think dancing\, singing\, and sipping themed cocktails like the Slow Jam Spritz or 90s Crush. \nWhat’s Included\n\n3–4 rounds of bingo\nLive DJ spinning your favorite slow jams and throwbacks\nDrink specials + themed cocktails\nPrizes\, photo ops & non-stop fun\n\nEvent Details\n🗓️ Date: Friday\, July 10th📍 Location: Scandals Live\, Virginia Beach\, VA⏰ Doors: 7PM | Show: 8PM | 21+ \nGrab your crew for the ultimate girls’ night\, date night\, or birthday turn-up.🎟️ Limited $20 early bird tickets — once they’re gone\, they’re gone! \n \nThis is the original and only RNB Bingo that runs nationwide. Please be cautious of copycats. If you see anyone imitating or copying our event\, please email us at info@lxgrp.com.Thank you!
URL:https://lxgrp.com/event/rb-bingo-at-scandals-live-4/
LOCATION:Scandals Live\, 3501 Holland Road\, #113\, Virginia Beach\, VA\, 23452\, United States
ATTACH;FMTTYPE=image/jpeg:https://lxgrp.com/wp-content/uploads/2026/04/e11d57212a48586c74938fe3bf44ea11-CG07rw.tmp_.jpg
END:VEVENT
END:VCALENDAR